BEGIN:VCALENDAR
VERSION:2.0
PRODID:-//Our Redeemer Lutheran Church - ECPv6.15.20//NONSGML v1.0//EN
CALSCALE:GREGORIAN
METHOD:PUBLISH
X-ORIGINAL-URL:https://ourredeemernewark.org
X-WR-CALDESC:Events for Our Redeemer Lutheran Church
REFRESH-INTERVAL;VALUE=DURATION:PT1H
X-Robots-Tag:noindex
X-PUBLISHED-TTL:PT1H
BEGIN:VTIMEZONE
TZID:America/New_York
BEGIN:DAYLIGHT
TZOFFSETFROM:-0500
TZOFFSETTO:-0400
TZNAME:EDT
DTSTART:20230312T070000
END:DAYLIGHT
BEGIN:STANDARD
TZOFFSETFROM:-0400
TZOFFSETTO:-0500
TZNAME:EST
DTSTART:20231105T060000
END:STANDARD
BEGIN:DAYLIGHT
TZOFFSETFROM:-0500
TZOFFSETTO:-0400
TZNAME:EDT
DTSTART:20240310T070000
END:DAYLIGHT
BEGIN:STANDARD
TZOFFSETFROM:-0400
TZOFFSETTO:-0500
TZNAME:EST
DTSTART:20241103T060000
END:STANDARD
BEGIN:DAYLIGHT
TZOFFSETFROM:-0500
TZOFFSETTO:-0400
TZNAME:EDT
DTSTART:20250309T070000
END:DAYLIGHT
BEGIN:STANDARD
TZOFFSETFROM:-0400
TZOFFSETTO:-0500
TZNAME:EST
DTSTART:20251102T060000
END:STANDARD
BEGIN:DAYLIGHT
TZOFFSETFROM:-0500
TZOFFSETTO:-0400
TZNAME:EDT
DTSTART:20260308T070000
END:DAYLIGHT
BEGIN:STANDARD
TZOFFSETFROM:-0400
TZOFFSETTO:-0500
TZNAME:EST
DTSTART:20261101T060000
END:STANDARD
END:VTIMEZONE
BEGIN:VEVENT
DTSTART;TZID=America/New_York:20250817T084500
DTEND;TZID=America/New_York:20250817T094500
DTSTAMP:20260419T152935
CREATED:20250728T140339Z
LAST-MODIFIED:20250728T140339Z
UID:9654-1755420300-1755423900@ourredeemernewark.org
SUMMARY:Bible Study
DESCRIPTION:
URL:https://ourredeemernewark.org/event/bible-study-7/
CATEGORIES:Bible Study
END:VEVENT
BEGIN:VEVENT
DTSTART;TZID=America/New_York:20250810T084500
DTEND;TZID=America/New_York:20250810T094500
DTSTAMP:20260419T152935
CREATED:20250728T140247Z
LAST-MODIFIED:20250728T140247Z
UID:9652-1754815500-1754819100@ourredeemernewark.org
SUMMARY:BIBLE STUDY
DESCRIPTION:
URL:https://ourredeemernewark.org/event/bible-study-6/
CATEGORIES:Bible Study
END:VEVENT
BEGIN:VEVENT
DTSTART;TZID=America/New_York:20250803T084500
DTEND;TZID=America/New_York:20250803T094500
DTSTAMP:20260419T152935
CREATED:20250728T140132Z
LAST-MODIFIED:20250728T140132Z
UID:9650-1754210700-1754214300@ourredeemernewark.org
SUMMARY:Bible Study
DESCRIPTION:
URL:https://ourredeemernewark.org/event/bible-study-5/
CATEGORIES:Bible Study
END:VEVENT
BEGIN:VEVENT
DTSTART;TZID=America/New_York:20250608T084500
DTEND;TZID=America/New_York:20250608T084500
DTSTAMP:20260419T152935
CREATED:20240715T150436Z
LAST-MODIFIED:20250313T153407Z
UID:9249-1749372300-1749372300@ourredeemernewark.org
SUMMARY:Bible Study
DESCRIPTION:In Person… or viewed later in week at facebook.com/ourredeemernewark
URL:https://ourredeemernewark.org/event/bible-study-29/
LOCATION:Our Redeemer Lutheran Church\, 10 Johnson Rd (in Chestnut Hill Estates)\, Newark\, DE\, 19713\, United States
CATEGORIES:Bible Study
END:VEVENT
BEGIN:VEVENT
DTSTART;TZID=America/New_York:20250601T084500
DTEND;TZID=America/New_York:20250601T100000
DTSTAMP:20260419T152935
CREATED:20240715T151316Z
LAST-MODIFIED:20250313T153226Z
UID:9259-1748767500-1748772000@ourredeemernewark.org
SUMMARY:Bible Study
DESCRIPTION:In Person… or viewed later in week at Facebook.com/ourredeemernewark
URL:https://ourredeemernewark.org/event/bible-study-34/
LOCATION:Our Redeemer Lutheran Church\, 10 Johnson Rd (in Chestnut Hill Estates)\, Newark\, DE\, 19713\, United States
CATEGORIES:Bible Study
END:VEVENT
BEGIN:VEVENT
DTSTART;TZID=America/New_York:20250525T084500
DTEND;TZID=America/New_York:20250525T100000
DTSTAMP:20260419T152935
CREATED:20240715T151212Z
LAST-MODIFIED:20250313T153106Z
UID:9257-1748162700-1748167200@ourredeemernewark.org
SUMMARY:Bible Study
DESCRIPTION:In Person… or viewed later in week at Facebook.com/ourredeemernewark
URL:https://ourredeemernewark.org/event/bible-study-33/
LOCATION:Our Redeemer Lutheran Church\, 10 Johnson Rd (in Chestnut Hill Estates)\, Newark\, DE\, 19713\, United States
CATEGORIES:Bible Study
END:VEVENT
BEGIN:VEVENT
DTSTART;TZID=America/New_York:20250518T084500
DTEND;TZID=America/New_York:20250518T100000
DTSTAMP:20260419T152935
CREATED:20240715T145034Z
LAST-MODIFIED:20250313T152952Z
UID:9241-1747557900-1747562400@ourredeemernewark.org
SUMMARY:Bible Study
DESCRIPTION:In Person… or viewed later in week at facebook.com/ourredeemernewark
URL:https://ourredeemernewark.org/event/bible-study-25/
LOCATION:Our Redeemer Lutheran Church\, 10 Johnson Rd (in Chestnut Hill Estates)\, Newark\, DE\, 19713\, United States
CATEGORIES:Bible Study
END:VEVENT
BEGIN:VEVENT
DTSTART;TZID=America/New_York:20250511T084500
DTEND;TZID=America/New_York:20250511T100000
DTSTAMP:20260419T152935
CREATED:20240715T144922Z
LAST-MODIFIED:20250313T152836Z
UID:9239-1746953100-1746957600@ourredeemernewark.org
SUMMARY:Bible Study
DESCRIPTION:In Person… or viewed later in week at facebook.com/ourredeemernewark
URL:https://ourredeemernewark.org/event/bible-study-24/
LOCATION:Our Redeemer Lutheran Church\, 10 Johnson Rd (in Chestnut Hill Estates)\, Newark\, DE\, 19713\, United States
CATEGORIES:Bible Study
END:VEVENT
BEGIN:VEVENT
DTSTART;TZID=America/New_York:20250504T084500
DTEND;TZID=America/New_York:20250504T100000
DTSTAMP:20260419T152935
CREATED:20240715T151411Z
LAST-MODIFIED:20250313T152745Z
UID:9261-1746348300-1746352800@ourredeemernewark.org
SUMMARY:Bible Study
DESCRIPTION:In Person… or viewed later in week at Facebook.com/ourredeemernewark
URL:https://ourredeemernewark.org/event/bible-study-35/
LOCATION:Our Redeemer Lutheran Church\, 10 Johnson Rd (in Chestnut Hill Estates)\, Newark\, DE\, 19713\, United States
CATEGORIES:Bible Study
END:VEVENT
BEGIN:VEVENT
DTSTART;TZID=America/New_York:20250427T084500
DTEND;TZID=America/New_York:20250427T100000
DTSTAMP:20260419T152935
CREATED:20240715T151507Z
LAST-MODIFIED:20250313T145719Z
UID:9263-1745743500-1745748000@ourredeemernewark.org
SUMMARY:Bible Study
DESCRIPTION:In Person… or viewed later in week at Facebook.com/ourredeemernewark
URL:https://ourredeemernewark.org/event/bible-study-36/
LOCATION:Our Redeemer Lutheran Church\, 10 Johnson Rd (in Chestnut Hill Estates)\, Newark\, DE\, 19713\, United States
CATEGORIES:Bible Study
END:VEVENT
BEGIN:VEVENT
DTSTART;TZID=America/New_York:20250420T084500
DTEND;TZID=America/New_York:20250420T100000
DTSTAMP:20260419T152935
CREATED:20240715T152254Z
LAST-MODIFIED:20250313T145554Z
UID:9269-1745138700-1745143200@ourredeemernewark.org
SUMMARY:Bible Study
DESCRIPTION:In Person… or viewed later in week at Facebook.com/ourredeemernewark
URL:https://ourredeemernewark.org/event/bible-study-39/
LOCATION:Our Redeemer Lutheran Church\, 10 Johnson Rd (in Chestnut Hill Estates)\, Newark\, DE\, 19713\, United States
CATEGORIES:Bible Study
END:VEVENT
BEGIN:VEVENT
DTSTART;TZID=America/New_York:20250413T084500
DTEND;TZID=America/New_York:20250413T100000
DTSTAMP:20260419T152935
CREATED:20240715T151606Z
LAST-MODIFIED:20250313T145347Z
UID:9265-1744533900-1744538400@ourredeemernewark.org
SUMMARY:Bible Study
DESCRIPTION:In Person… or viewed later in week at Facebook.com/ourredeemernewark
URL:https://ourredeemernewark.org/event/bible-study-37/
LOCATION:Our Redeemer Lutheran Church\, 10 Johnson Rd (in Chestnut Hill Estates)\, Newark\, DE\, 19713\, United States
CATEGORIES:Bible Study
END:VEVENT
BEGIN:VEVENT
DTSTART;TZID=America/New_York:20250406T084500
DTEND;TZID=America/New_York:20250406T100000
DTSTAMP:20260419T152935
CREATED:20240715T151725Z
LAST-MODIFIED:20250313T145306Z
UID:9267-1743929100-1743933600@ourredeemernewark.org
SUMMARY:Bible Study
DESCRIPTION:In Person… or viewed later in week at Facebook.com/ourredeemernewark
URL:https://ourredeemernewark.org/event/bible-study-38/
LOCATION:Our Redeemer Lutheran Church\, 10 Johnson Rd (in Chestnut Hill Estates)\, Newark\, DE\, 19713\, United States
CATEGORIES:Bible Study
END:VEVENT
BEGIN:VEVENT
DTSTART;TZID=America/New_York:20250330T084500
DTEND;TZID=America/New_York:20250330T094500
DTSTAMP:20260419T152935
CREATED:20250313T144943Z
LAST-MODIFIED:20250313T144943Z
UID:9556-1743324300-1743327900@ourredeemernewark.org
SUMMARY:Bible Study
DESCRIPTION:
URL:https://ourredeemernewark.org/event/bible-study-3/
CATEGORIES:Bible Study
END:VEVENT
BEGIN:VEVENT
DTSTART;TZID=America/New_York:20250323T084500
DTEND;TZID=America/New_York:20250323T094500
DTSTAMP:20260419T152935
CREATED:20250313T144743Z
LAST-MODIFIED:20250313T145210Z
UID:9554-1742719500-1742723100@ourredeemernewark.org
SUMMARY:Bible Study
DESCRIPTION:
URL:https://ourredeemernewark.org/event/bible-study-2/
CATEGORIES:Bible Study
END:VEVENT
BEGIN:VEVENT
DTSTART;TZID=America/New_York:20250316T084500
DTEND;TZID=America/New_York:20250316T094500
DTSTAMP:20260419T152935
CREATED:20250313T144624Z
LAST-MODIFIED:20250313T145130Z
UID:9552-1742114700-1742118300@ourredeemernewark.org
SUMMARY:Bible Study
DESCRIPTION:
URL:https://ourredeemernewark.org/event/bible-study/
LOCATION:Our Redeemer Lutheran Church\, 10 Johnson Rd (in Chestnut Hill Estates)\, Newark\, DE\, 19713\, United States
CATEGORIES:Bible Study
END:VEVENT
BEGIN:VEVENT
DTSTART;TZID=America/New_York:20250313T084500
DTEND;TZID=America/New_York:20250313T094500
DTSTAMP:20260419T152935
CREATED:20250313T155543Z
LAST-MODIFIED:20250313T155543Z
UID:9550-1741855500-1741859100@ourredeemernewark.org
SUMMARY:Bible Study
DESCRIPTION:
URL:https://ourredeemernewark.org/event/bible-study-4/
LOCATION:Our Redeemer Lutheran Church\, 10 Johnson Rd (in Chestnut Hill Estates)\, Newark\, DE\, 19713\, United States
CATEGORIES:Bible Study
END:VEVENT
BEGIN:VEVENT
DTSTART;TZID=America/New_York:20241110T084500
DTEND;TZID=America/New_York:20241110T100000
DTSTAMP:20260419T152935
CREATED:20240715T151037Z
LAST-MODIFIED:20240715T151037Z
UID:9255-1731228300-1731232800@ourredeemernewark.org
SUMMARY:Bible Study
DESCRIPTION:In Person… or viewed later in week at Facebook.com/ourredeemernewark
URL:https://ourredeemernewark.org/event/bible-study-32/
LOCATION:Our Redeemer Lutheran Church\, 10 Johnson Rd (in Chestnut Hill Estates)\, Newark\, DE\, 19713\, United States
CATEGORIES:Bible Study
END:VEVENT
END:VCALENDAR