BEGIN:VCALENDAR
VERSION:2.0
PRODID:-//Our Redeemer Lutheran Church - ECPv6.15.20//NONSGML v1.0//EN
CALSCALE:GREGORIAN
METHOD:PUBLISH
X-WR-CALNAME:Our Redeemer Lutheran Church
X-ORIGINAL-URL:https://ourredeemernewark.org
X-WR-CALDESC:Events for Our Redeemer Lutheran Church
REFRESH-INTERVAL;VALUE=DURATION:PT1H
X-Robots-Tag:noindex
X-PUBLISHED-TTL:PT1H
BEGIN:VTIMEZONE
TZID:America/New_York
BEGIN:DAYLIGHT
TZOFFSETFROM:-0500
TZOFFSETTO:-0400
TZNAME:EDT
DTSTART:20240310T070000
END:DAYLIGHT
BEGIN:STANDARD
TZOFFSETFROM:-0400
TZOFFSETTO:-0500
TZNAME:EST
DTSTART:20241103T060000
END:STANDARD
BEGIN:DAYLIGHT
TZOFFSETFROM:-0500
TZOFFSETTO:-0400
TZNAME:EDT
DTSTART:20250309T070000
END:DAYLIGHT
BEGIN:STANDARD
TZOFFSETFROM:-0400
TZOFFSETTO:-0500
TZNAME:EST
DTSTART:20251102T060000
END:STANDARD
BEGIN:DAYLIGHT
TZOFFSETFROM:-0500
TZOFFSETTO:-0400
TZNAME:EDT
DTSTART:20260308T070000
END:DAYLIGHT
BEGIN:STANDARD
TZOFFSETFROM:-0400
TZOFFSETTO:-0500
TZNAME:EST
DTSTART:20261101T060000
END:STANDARD
END:VTIMEZONE
BEGIN:VEVENT
DTSTART;TZID=America/New_York:20250402T174500
DTEND;TZID=America/New_York:20250402T200000
DTSTAMP:20260419T225353
CREATED:20250313T150212Z
LAST-MODIFIED:20250313T150212Z
UID:9566-1743615900-1743624000@ourredeemernewark.org
SUMMARY:Mid Week "Souper" Supper & Lenten Service
DESCRIPTION:Join us for fellowship and a soup supper prior to worship at 7 p.m.
URL:https://ourredeemernewark.org/event/mid-week-souper-supper-lenten-service-3/
CATEGORIES:Congregational,Fellowship,Outreach,Worship Services
END:VEVENT
BEGIN:VEVENT
DTSTART;TZID=America/New_York:20250326T174500
DTEND;TZID=America/New_York:20250326T200000
DTSTAMP:20260419T225353
CREATED:20250313T150047Z
LAST-MODIFIED:20250313T150047Z
UID:9564-1743011100-1743019200@ourredeemernewark.org
SUMMARY:Mid Week "Souper" Supper & Lenten Service
DESCRIPTION:Join us for fellowship and a soup supper prior to worship at 7 p.m.
URL:https://ourredeemernewark.org/event/mid-week-souper-supper-lenten-service-2/
CATEGORIES:Congregational,Fellowship,Outreach,Worship Services
END:VEVENT
BEGIN:VEVENT
DTSTART;TZID=America/New_York:20250319T174500
DTEND;TZID=America/New_York:20250319T200000
DTSTAMP:20260419T225353
CREATED:20250313T145931Z
LAST-MODIFIED:20250313T145931Z
UID:9562-1742406300-1742414400@ourredeemernewark.org
SUMMARY:Mid Week "Souper" Supper & Lenten Service
DESCRIPTION:Join us in fellowship with a soup supper before the 7 pm. worship service.
URL:https://ourredeemernewark.org/event/mid-week-souper-supper-lenten-service/
CATEGORIES:Congregational,Fellowship,Outreach,Worship Services
END:VEVENT
END:VCALENDAR